BEGIN:VCALENDAR
VERSION:2.0
PRODID:-//Termine in Remscheid - ECPv6.14.0//NONSGML v1.0//EN
CALSCALE:GREGORIAN
METHOD:PUBLISH
X-WR-CALNAME:Termine in Remscheid
X-ORIGINAL-URL:https://terminers.de
X-WR-CALDESC:Veranstaltungen für Termine in Remscheid
REFRESH-INTERVAL;VALUE=DURATION:PT1H
X-Robots-Tag:noindex
X-PUBLISHED-TTL:PT1H
BEGIN:VTIMEZONE
TZID:Europe/Berlin
BEGIN:DAYLIGHT
TZOFFSETFROM:+0100
TZOFFSETTO:+0200
TZNAME:CEST
DTSTART:20250330T010000
END:DAYLIGHT
BEGIN:STANDARD
TZOFFSETFROM:+0200
TZOFFSETTO:+0100
TZNAME:CET
DTSTART:20251026T010000
END:STANDARD
END:VTIMEZONE
BEGIN:VEVENT
DTSTART;TZID=Europe/Berlin:20250725T190000
DTEND;TZID=Europe/Berlin:20250725T220000
DTSTAMP:20260424T132258
CREATED:20250606T081138Z
LAST-MODIFIED:20250606T081138Z
UID:26-1753470000-1753480800@terminers.de
SUMMARY:Treffen der Naturschutzvereine Remscheid am 25.07.2025
DESCRIPTION:Jeden letzten Freitag im Monat treffen sich die verschiedenen Umweltgruppen von Greenpeace\, NABU\, BUND und RBN (Rheinisch-Bergischer Naturschutzverein) zum Austausch. Los geht es um 19 Uhr im Haus Goldenberg\, Remscheider Straße 226 in 42855 Remscheid. Interessierte sind willkommen. \nBei Rückfragen wenden Sie sich bitte an:\nHubert Benzheim (0178 8312644\, landlust.hubert@web.de)\noder Gabi Lipka (02191 291885\, gabi.lipka@online.de).
URL:https://terminers.de/event/treffen-der-naturschutzvereine-remscheid-am-25-07-2025/
LOCATION:Haus Goldenberg\, Remscheider Straße 226\, Remscheid\, 42855\, Germany
CATEGORIES:Stammtisch,Umwelt
ATTACH;FMTTYPE=image/jpeg:https://terminers.de/wp-content/uploads/2025/06/20240514_142903-scaled-1.jpg
ORGANIZER;CN="BUND Remscheid":MAILTO:landlust.hubert@web.de
END:VEVENT
BEGIN:VEVENT
DTSTART;VALUE=DATE:20250608
DTEND;VALUE=DATE:20250610
DTSTAMP:20260424T132258
CREATED:20250608T090247Z
LAST-MODIFIED:20250608T090247Z
UID:38-1749340800-1749513599@terminers.de
SUMMARY:38. Pfingstmarkt in der Hindenburgstraße
DESCRIPTION:Am Sonntag\, den 8. Juni\, und Montag\, den 9. Juni 2025\, findet der Pfingstmarkt in der Hindenburgstraße bereits zum 38. Mal statt. \nDas beliebte Straßenfest lockt jedes Jahr nicht nur zahlreiche Remscheider*innen\, sondern auch Besucher*innen aus der gesamten Region in die Hindenburgstraße. Mit über 20.000 geschätzten Besucher*innen im Jahr 2024 gehört der Pfingstmarkt zu den größten und beliebtesten Straßenfesten mit Trödelmarkt in Remscheid und Umgebung. \nEin abwechslungsreiches Programm erwartet die Gäste an beiden Tagen: Kulinarische Köstlichkeiten\, Live-Musik\, ein Kindertrödel sowie vielfältige Angebote zur Kinderbelustigung sorgen für beste Unterhaltung für die ganze Familie.Der große Trödelmarkt mit über 250 meist privaten Aussteller*innen lädt zum Stöbern\, Feilschen und Entdecken ein. Darüber hinaus bietet er die perfekte Gelegenheit\, in entspannter Atmosphäre alte Bekannte zu treffen und neue Kontakte zu knüpfen. \nEin besonderes Highlight sind die Live-Acts auf der Bühne der IG Hindenburgstraße\, die mit abwechslungsreicher Musik für beste Stimmung sorgen.
URL:https://terminers.de/event/38-pfingstmarkt-in-der-hindenburgstrasse/
LOCATION:Hindenburgstraße\, Hindenburgstraße\, Remscheid\, 42853\, Germany
CATEGORIES:Straßenfest,Trödelmarkt
ATTACH;FMTTYPE=image/webp:https://terminers.de/wp-content/uploads/2025/06/Pfingstmark-2025.webp
ORGANIZER;CN="Knallfabrik":MAILTO:info@knallfabrik.de
END:VEVENT
BEGIN:VEVENT
DTSTART;VALUE=DATE:20250516
DTEND;VALUE=DATE:20250618
DTSTAMP:20260424T132258
CREATED:20250606T084247Z
LAST-MODIFIED:20250606T084247Z
UID:32-1747353600-1750204799@terminers.de
SUMMARY:Zwischen Erfolg und Verfolgung - jüdische Stars im deutschen Sport bis 1933 und danach.
DESCRIPTION:Die Ausstellung „Zwischen Erfolg und Verfolgung – Jüdische Stars im deutschen Sport bis 1933 und danach“ würdigt mit Hilfe großformatiger skulpturaler Präsentationen den großen Anteil jüdischer Athletinnen und Athleten an der Ent wicklung des modernen Sports in Deutschland. Als Nationalspieler*innen\, Welt- oder Europameister*innen\, als Olympiasieger*innen oder Rekordhalter*innen zählten sie zu den gefeierten Idolen ihrer Zeit. Im NS-Staat wurden sie\nals Jüdinnen und Juden ausgegrenzt\, entrechtet\, zur Flucht gedrängt oder ermordet. \nVorgestellt werden die Biografien des Fußballpioniers Walther Bensemann\, der zehnfachen Deutschen Leichtathletikmeisterin Lilli Henoch\, des Fußballnationalspielers Julius Hirsch\, des israelischen\, später deutschen Basketball-Nationaltrainers Ralph Klein\, der Fechtolympiasiegerin Helene Mayer\, des Schachweltmeisters Emanuel Lasker\, des Meisterboxers Erich Seelig\, der Deutschen Tennismeisterin Nelly Neppach\, der Deutschen Speerwurfmeisterin Martha Jacob\, der Leichtathletin Gretel Bergmann\, der Turnolympiasieger Alfred und Gustav Felix Flatow\, der Europameister im Gewichtheben beziehungsweise im Ringen Julius und Hermann Baruch\, des Eishockeyspielers Rudi Ball und des deutschen Fußballnationalspielers Gottfried Fuchs. \nDie Ausstellung bietet mit der Schwimmerin Sarah Poewe aber auch einen Ausblick und stellt eine wichtige Verbindung zur Gegenwart her. Poewe gewann als erste jüdische Athletin nach dem Ende des Zweiten Weltkrieges für Deutschland eine olympische Bronze-Medaille 2004 in Athen.
URL:https://terminers.de/event/zwischen-erfolg-und-verfolgung-juedische-stars-im-deutschen-sport-bis-1933-und-danach/
LOCATION:Alleestraße\, Alleestraße\, Remscheid\, 42853\, Germany
CATEGORIES:Ausstellung,Demokratie leben
ATTACH;FMTTYPE=image/png:https://terminers.de/wp-content/uploads/2025/06/202905_1746519803.01314.png
END:VEVENT
END:VCALENDAR